BEGIN:VCALENDAR
VERSION:2.0
PRODID:-//urwahl3000//gruene-geestland.de//DE
CALSCALE:GREGORIAN
BEGIN:VEVENT
DTSTART:20210824T190000
DTEND:20210824T190000
LOCATION:Ohldorpsweg 1D\, 27607 Geestland Geestland
DTSTAMP:20210824T190000
SUMMARY:Frank Bsirske in Geestland – Langen
URL;VALUE=URI:https://gruene-geestland.de/termin/frank-bsirske-in-geestland-langen/
DESCRIPTION:<strong>"Wir können auch Wirtschaft" ist das Thema der Wahlkampfveranstaltung in Geestland.</strong>

Am 24. August kommt der ehemalige Verdi Vorsitzende und Bundestagskandidat von B'90/Die Grünen zu einer Veranstaltung nach Geestland, Langen in den Lindenhofsaal.

<a href="https://gruene-geestland.de/frank-bsirske-kommt-nach-geestland/">Veranstaltungs Info!</a>

Mit dabei sind der Direktkandidat für den Wahlkreis Cuxhaven/Stade II - Stefan Wenzel und der Bremerhavender Direktkandidat Michael Labetzke.
UID:20210824T190000-20210824T190000-20210824T190000
END:VEVENT
END:VCALENDAR