BEGIN:VCALENDAR
VERSION:2.0
PRODID:-//urwahl3000//gruene-geestland.de//DE
CALSCALE:GREGORIAN
BEGIN:VEVENT
DTSTART:20210329T180000
DTEND:20210329T191500
LOCATION: 
DTSTAMP:20210329T180000
SUMMARY:Der Grüne Paukenschlag in Baden-Württemberg – Woher kommt der Wahlerfolg und wie geht es weiter?
URL;VALUE=URI:https://gruene-geestland.de/termin/der-gruene-paukenschlag-in-baden-wuerttemberg-woher-kommt-der-wahlerfolg-und-wie-geht-es-weiter/
DESCRIPTION:<span style="color: #1a1a1a;"><span style="font-family: Arial, serif;"><span style="font-size: small;"><b>Stefan Wenzel</b></span></span></span><span style="color: #1a1a1a;"><span style="font-family: Arial, serif;"><span style="font-size: small;"> (Bundestagskandidat von Bündnis 90/Die Grünen) trifft </span></span></span><span style="color: #1a1a1a;"><span style="font-family: Arial, serif;"><span style="font-size: small;"><b>Franz Untersteller</b></span></span></span><span style="color: #1a1a1a;"><span style="font-family: Arial, serif;"><span style="font-size: small;">, den amtierenden Minister für Umwelt, Klima und Energiewirtschaft des Landes Baden-Württemberg</span></span></span>

<span style="color: #1a1a1a;"><span style="font-family: Arial, serif;"><span style="font-size: small;">Wir freuen uns, dass wir mit Franz Untersteller für unser Video-Gespräch einen hoch kompetenten, national und international erfahrenen Umweltpolitiker und langjährigen Weggefährten Winfried Kretschmanns gewinnen konnten. Seit 2011 als Umweltminister, zuvor schon als parlamentarischer Berater, Landtagsabgeordneter und Vorstand des Öko-Instituts ist unser Gast der ideale Gesprächspartner für die Erörterung aller Fragen im Zusammenhang mit der Grünen Erfolgsgeschichte in Baden-Württemberg.</span></span></span>

ONLINE Veranstaltung!

<span style="color: #1a1a1a;"><span style="font-family: Arial, serif;"><span style="font-size: small;">Wir bitten Interessierte sich bis zum 29.3.21, 10 Uhr unter der Email-Adresse <strong>cux-stade2@posteo.de</strong> anzumelden. Sie erhalten dann den Link mit dem Sie als digitaler Gast (auf dem Computer, Tablett, Smartphone oder per Telefon) an unserer Veranstaltung teilnehmen können.</span></span></span>
UID:20210329T180000-20210329T180000-20210329T191500
END:VEVENT
END:VCALENDAR